BEGIN:VCALENDAR
VERSION:2.0
PRODID:-//hacksw/handcal//NONSGML v1.0//EN
BEGIN:VEVENT
DTSTART:20221122T190000
DTEND:20221122T213000
LOCATION:Eurékafé \n5 Imp. Colombette  \n31000  Toulouse
ORGANIZER;CN=Agathe Roby:MAILTO:agathe.roby@univ-toulouse.fr
SUMMARY:Afterwork de rentrée
DESCRIPTION:Le réseau Alumni fait sa rentrée!\nVenez rencontrer des docteur.es et doctorant.es de l'Université de Toulouse pour échanger sur la poursuite de carrière après le doctorat!Rendez vous à l'Eurêkafé à...
URL:https://alumni-docteurs.univ-toulouse.fr/fr/event/afterwork-de-rentree/2022/11/22/146
BEGIN:VALARM
TRIGGER:-P0DT1H0M0S
ACTION:DISPLAY
END:VALARM
END:VEVENT
END:VCALENDAR