BEGIN:VCALENDAR
VERSION:2.0
PRODID:-//hacksw/handcal//NONSGML v1.0//EN
BEGIN:VEVENT
DTSTART:20230131T190000
DTEND:20230131T210000
LOCATION:Eurêkafé \n5 imp. de la Colombette \n31000 Toulouse
ORGANIZER;CN=Agathe Roby:MAILTO:agathe.roby@univ-toulouse.fr
SUMMARY:Afterwork 2023
DESCRIPTION:Le 31 janvier, le réseau Alumni Docteurs vous propose un apéritif Réseau!\nVenez rencontrer des docteur.es et doctorant.es de l'Université de Toulouse pour échanger sur la poursuite de carrière après ...
URL:https://alumni-docteurs.univ-toulouse.fr/fr/event/afterwork-2023/2023/01/31/147
BEGIN:VALARM
TRIGGER:-P0DT1H0M0S
ACTION:DISPLAY
END:VALARM
END:VEVENT
END:VCALENDAR