BEGIN:VCALENDAR
VERSION:2.0
PRODID:-//hacksw/handcal//NONSGML v1.0//EN
BEGIN:VEVENT
DTSTART:20240213T170000
DTEND:20240213T183000
LOCATION:En ligne
ORGANIZER;CN=Agathe Roby:MAILTO:agathe.roby@univ-toulouse.fr
SUMMARY:[FI Match] - PhD Grads - How to succeed in your job search - 13/02
DESCRIPTION:Objectives : Optimise your job search to find an R&D position in a company and discover the practices and key key players in recruitment.  Topics will include : + Creating your CV + Knowing and...
URL:https://alumni-docteurs.univ-toulouse.fr/fr/event/-fi-match-phd-grads-how-to-succeed-in-your-job-search-13-02/2024/02/13/148
BEGIN:VALARM
TRIGGER:-P0DT1H0M0S
ACTION:DISPLAY
END:VALARM
END:VEVENT
END:VCALENDAR