BEGIN:VCALENDAR
VERSION:2.0
PRODID:-//hacksw/handcal//NONSGML v1.0//EN
BEGIN:VEVENT
DTSTART:20241004T000000
DTEND:20241004T235500
LOCATION:https://www.toulouse-tech-transfer.com/fr/actualites-et-evenements/doc-doccitanie
ORGANIZER;CN=Axelle Collinet:MAILTO:axelle.collinet@univ-toulouse.fr
SUMMARY:Appel à candidature Doc D'Occitanie 2024 !
DESCRIPTION:\nDoc d'Occitanie dispositif pionnier dans l'accompagnement dédié aux jeunes docteurs\nCe programme affilé au challenge Starthèse offre aux jeunes doctorants en 2ème et 3ème année et aux jeunes...
URL:https://alumni-docteurs.univ-toulouse.fr/fr/event/appel-a-candidature-doc-d-occitanie-2024/2024/10/04/151
BEGIN:VALARM
TRIGGER:-P0DT1H0M0S
ACTION:DISPLAY
END:VALARM
END:VEVENT
END:VCALENDAR